BEGIN:VCALENDAR
VERSION:2.0
PRODID:-//Divecrew-Berlin - ECPv6.15.20//NONSGML v1.0//EN
CALSCALE:GREGORIAN
METHOD:PUBLISH
X-WR-CALNAME:Divecrew-Berlin
X-ORIGINAL-URL:https://www.divecrew-berlin.de
X-WR-CALDESC:Veranstaltungen für Divecrew-Berlin
REFRESH-INTERVAL;VALUE=DURATION:PT1H
X-Robots-Tag:noindex
X-PUBLISHED-TTL:PT1H
BEGIN:VTIMEZONE
TZID:Europe/Berlin
BEGIN:DAYLIGHT
TZOFFSETFROM:+0100
TZOFFSETTO:+0200
TZNAME:CEST
DTSTART:20250330T010000
END:DAYLIGHT
BEGIN:STANDARD
TZOFFSETFROM:+0200
TZOFFSETTO:+0100
TZNAME:CET
DTSTART:20251026T010000
END:STANDARD
BEGIN:DAYLIGHT
TZOFFSETFROM:+0100
TZOFFSETTO:+0200
TZNAME:CEST
DTSTART:20260329T010000
END:DAYLIGHT
BEGIN:STANDARD
TZOFFSETFROM:+0200
TZOFFSETTO:+0100
TZNAME:CET
DTSTART:20261025T010000
END:STANDARD
BEGIN:DAYLIGHT
TZOFFSETFROM:+0100
TZOFFSETTO:+0200
TZNAME:CEST
DTSTART:20270328T010000
END:DAYLIGHT
BEGIN:STANDARD
TZOFFSETFROM:+0200
TZOFFSETTO:+0100
TZNAME:CET
DTSTART:20271031T010000
END:STANDARD
END:VTIMEZONE
BEGIN:VEVENT
DTSTART;TZID=Europe/Berlin:20260504T130000
DTEND;TZID=Europe/Berlin:20260504T180000
DTSTAMP:20260420T040039
CREATED:20260419T161844Z
LAST-MODIFIED:20260419T161844Z
UID:9805-1777899600-1777917600@www.divecrew-berlin.de
SUMMARY:Technische Prüfung Tauchflaschen
DESCRIPTION:Abgabetermin für die technische Prüfung von Tauchflaschen\n\nAbgabe Montag\, 4. Mai 2026.\nRückgabe erfolgt ab Freitag\, den 21. Mai 2026.\nNächster Abgabetermin ist der 18. Mai 2026.\n\n 
URL:https://www.divecrew-berlin.de/event/technische-pruefung-tauchflaschen/
LOCATION:Tauchschule Divecrew Berlin\, Reuterstr. 31\, Berlin\, Berlin\, 12047\, Germany
CATEGORIES:Service
ATTACH;FMTTYPE=image/png:https://www.divecrew-berlin.de/wp-content/uploads/2026/04/TUeV-Ueberpruefung-Pruefun-Tauchflaschen.png
ORGANIZER;CN="Divecrew Berlin Tauchkurse":MAILTO:info@divecrew-berlin.de
END:VEVENT
END:VCALENDAR